BEGIN:VCALENDAR
VERSION:2.0
PRODID:-//Hello Uzès//Agenda//FR
CALSCALE:GREGORIAN
METHOD:PUBLISH
BEGIN:VEVENT
UID:event-1051@hello-uzes.com
DTSTAMP:20260421T143827Z
DTSTART;VALUE=DATE:20260421
DTEND;VALUE=DATE:20260422
SUMMARY:Atelier Terre - Cours de poterie pour petits et grands
DESCRIPTION:Initiation / découverte dans le cadre d'un événement
LOCATION:Saint-Quentin-la-Poterie
URL:https://hello-uzes.com/agenda/atelier-terre-cours-de-poterie-pour-petits-et-grands
END:VEVENT
END:VCALENDAR
