BEGIN:VCALENDAR
VERSION:2.0
PRODID:-//Hello Uzès//Agenda//FR
CALSCALE:GREGORIAN
METHOD:PUBLISH
BEGIN:VEVENT
UID:event-975@hello-uzes.com
DTSTAMP:20260421T082210Z
DTSTART;VALUE=DATE:20260422
DTEND;VALUE=DATE:20260427
SUMMARY:Bugonia
DESCRIPTION:Deux jeunes hommes obsédés par les théories du complot kidnappent la PDG d’une grande entreprise\, convaincus qu’elle est une extraterrestre déterminée à détruire la planète Terre.
LOCATION:Cinéma Le Capitole
URL:https://hello-uzes.com/agenda/bugonia
END:VEVENT
END:VCALENDAR
