BEGIN:VCALENDAR
VERSION:2.0
PRODID:-//Hello Uzès//Agenda//FR
CALSCALE:GREGORIAN
METHOD:PUBLISH
BEGIN:VEVENT
UID:event-1109@hello-uzes.com
DTSTAMP:20260424T105644Z
DTSTART;VALUE=DATE:20260424
DTEND;VALUE=DATE:20260425
SUMMARY:Chants italiens et Dj set dansant à Vallabrix
DESCRIPTION:Guappecarto\, Dario Sanson et Dj Papaours à l'Abrix bar
LOCATION:Abrix bar\, Vallabrix
URL:https://hello-uzes.com/agenda/chants-italiens-et-dj-set-dansant-a-vallabrix
END:VEVENT
END:VCALENDAR
