BEGIN:VCALENDAR
VERSION:2.0
PRODID:-//Hello Uzès//Agenda//FR
CALSCALE:GREGORIAN
METHOD:PUBLISH
BEGIN:VEVENT
UID:event-1081@hello-uzes.com
DTSTAMP:20260423T114959Z
DTSTART;VALUE=DATE:20260508
DTEND;VALUE=DATE:20260509
SUMMARY:Comedy Club à Uzès
DESCRIPTION:Un comedy club où plusieurs humoristes se succèdent sur scène pour des numéros courts et percutants. Une soirée dédiée aux talents confirmés et émergents de l'humour.
LOCATION:L'Ombriere\, Uzès
URL:https://hello-uzes.com/agenda/comedy-club-a-uzes
END:VEVENT
END:VCALENDAR
