BEGIN:VCALENDAR
VERSION:2.0
PRODID:-//Hello Uzès//Agenda//FR
CALSCALE:GREGORIAN
METHOD:PUBLISH
BEGIN:VEVENT
UID:event-988@hello-uzes.com
DTSTAMP:20260421T101144Z
DTSTART;VALUE=DATE:20260417
DTEND;VALUE=DATE:20260418
SUMMARY:Concerts au mas Varangle par l'Abrix bar
DESCRIPTION:Concerts au mas Varangle avec Kieran Thorpe en première partie
LOCATION:Montaren-et-Saint-Médiers
URL:https://hello-uzes.com/agenda/concerts-au-mas-varangle-par-l-abrix-bar
END:VEVENT
END:VCALENDAR
