BEGIN:VCALENDAR
VERSION:2.0
PRODID:-//Hello Uzès//Agenda//FR
CALSCALE:GREGORIAN
METHOD:PUBLISH
BEGIN:VEVENT
UID:event-1080@hello-uzes.com
DTSTAMP:20260423T114926Z
DTSTART;VALUE=DATE:20260421
DTEND;VALUE=DATE:20260423
SUMMARY:Exposition photos anciennes – Arpaillargues et Aureilhac mon village
DESCRIPTION:# Exposition photos anciennes – Arpaillargues et Aureilhac mon village\\n\\nCette exposition présente une collection de photographies anciennes mettant en avant l'histoire et l'évolution du village d'Arpaillargues et Aureilhac. Les visiteurs pourront découvrir des clichés d'époque qui témoignent de la vie locale à travers les décennies. L'exposition se tient jusqu'au 23 avril 2026.
LOCATION:10h00
URL:https://hello-uzes.com/agenda/exposition-photos-anciennes-arpaillargues-et-aureilhac-mon-village
END:VEVENT
END:VCALENDAR
