BEGIN:VCALENDAR
VERSION:2.0
PRODID:-//Hello Uzès//Agenda//FR
CALSCALE:GREGORIAN
METHOD:PUBLISH
BEGIN:VEVENT
UID:event-1042@hello-uzes.com
DTSTAMP:20260421T142511Z
DTSTART;VALUE=DATE:20260401
DTEND;VALUE=DATE:20260430
SUMMARY:Grande braderie Athezza
DESCRIPTION:# Grande braderie Athezza\\n\\nLa Grande braderie Athezza se déroulera à Uzès jusqu'au 30 avril 2026. Cet événement commercial propose des réductions importantes sur une large sélection de produits. C'est l'occasion idéale pour faire de bonnes affaires dans la cité historique d'Uzès.
LOCATION:10h00
URL:https://hello-uzes.com/agenda/grande-braderie-athezza
END:VEVENT
END:VCALENDAR
