BEGIN:VCALENDAR
VERSION:2.0
PRODID:-//Hello Uzès//Agenda//FR
CALSCALE:GREGORIAN
METHOD:PUBLISH
BEGIN:VEVENT
UID:event-972@hello-uzes.com
DTSTAMP:20260421T102642Z
DTSTART;VALUE=DATE:20260422
DTEND;VALUE=DATE:20260426
SUMMARY:Il Maestro
DESCRIPTION:Années 1980\, un ancien joueur de tennis devient l’entraîneur d’un jeune talent timide\, écrasé par les attentes de son père.
LOCATION:Cinéma Le Capitole
URL:https://hello-uzes.com/agenda/il-maestro
END:VEVENT
END:VCALENDAR
