BEGIN:VCALENDAR
VERSION:2.0
PRODID:-//Hello Uzès//Agenda//FR
CALSCALE:GREGORIAN
METHOD:PUBLISH
BEGIN:VEVENT
UID:event-980@hello-uzes.com
DTSTAMP:20260423T101940Z
DTSTART;VALUE=DATE:20260423
DTEND;VALUE=DATE:20260427
SUMMARY:Jumpers
DESCRIPTION:Mabel est une jeune fille audacieuse qui a une grande ambition : infiltrer le monde animal. Pour ce faire\, elle transfère son esprit à un robot castor afin de pouvoir approcher d’autres animaux et étudier leur mode de vie.
LOCATION:Cinéma Le Capitole
URL:https://hello-uzes.com/agenda/jumpers
END:VEVENT
END:VCALENDAR
