BEGIN:VCALENDAR
VERSION:2.0
PRODID:-//Hello Uzès//Agenda//FR
CALSCALE:GREGORIAN
METHOD:PUBLISH
BEGIN:VEVENT
UID:event-1023@hello-uzes.com
DTSTAMP:20260421T144455Z
DTSTART;VALUE=DATE:20260420
DTEND;VALUE=DATE:20260424
SUMMARY:Kids Club avec l’école Montessori
DESCRIPTION:Le Kids Club avec l'école Montessori propose aux enfants des activités éducatives et ludiques basées sur la pédagogie Montessori à Uzès. Ce programme s'étend jusqu'au 24 avril 2026 et débute à 09h00. Il offre un cadre d'apprentissage favorisant l'autonomie et la découverte personnelle des jeunes participants.
LOCATION:09h00
URL:https://hello-uzes.com/agenda/kids-club-avec-l-ecole-montessori
END:VEVENT
END:VCALENDAR
