BEGIN:VCALENDAR
VERSION:2.0
PRODID:-//Hello Uzès//Agenda//FR
CALSCALE:GREGORIAN
METHOD:PUBLISH
BEGIN:VEVENT
UID:event-1067@hello-uzes.com
DTSTAMP:20260422T112921Z
DTSTART;VALUE=DATE:20260620
DTEND;VALUE=DATE:20260621
SUMMARY:L'Arène des Légendes - The Beatles legend + Show Michael Jackson
DESCRIPTION:Spectacle multimédia captivant sublimant la musique\, l'énergie et le style légendaire des Fab Four.
LOCATION:Route de Nîmes\, Uzès
URL:https://hello-uzes.com/agenda/l-arene-des-legendes-the-beatles-legend-show-michael-jackson
END:VEVENT
END:VCALENDAR
