BEGIN:VCALENDAR
VERSION:2.0
PRODID:-//Hello Uzès//Agenda//FR
CALSCALE:GREGORIAN
METHOD:PUBLISH
BEGIN:VEVENT
UID:event-1108@hello-uzes.com
DTSTAMP:20260424T110644Z
DTSTART;VALUE=DATE:20260426
DTEND;VALUE=DATE:20260427
SUMMARY:La Fête du printemps arrive à Montaren-et-Saint-Médiers
DESCRIPTION:Fête du printemps organisée par Monta'fiestas
LOCATION:Montaren-et-Saint-Médiers
URL:https://hello-uzes.com/agenda/la-fete-du-printemps-arrive-a-montaren-et-saint-mediers
END:VEVENT
END:VCALENDAR
