BEGIN:VCALENDAR
VERSION:2.0
PRODID:-//Hello Uzès//Agenda//FR
CALSCALE:GREGORIAN
METHOD:PUBLISH
BEGIN:VEVENT
UID:event-973@hello-uzes.com
DTSTAMP:20260421T083907Z
DTSTART;VALUE=DATE:20260422
DTEND;VALUE=DATE:20260427
SUMMARY:La Poupée
DESCRIPTION:Rémi ne s’est pas remis d’un chagrin d’amour et depuis\, il partage sa vie avec une poupée\, Audrey. Cependant\, le jour où Patricia\, une intérimaire\, arrive dans son entreprise\, Audrey devient vivante. Les deux femmes vont bouleverser la vie de Rémi… pour le meilleur.
LOCATION:Cinéma Le Capitole
URL:https://hello-uzes.com/agenda/la-poupee
END:VEVENT
END:VCALENDAR
