BEGIN:VCALENDAR
VERSION:2.0
PRODID:-//Hello Uzès//Agenda//FR
CALSCALE:GREGORIAN
METHOD:PUBLISH
BEGIN:VEVENT
UID:event-1062@hello-uzes.com
DTSTAMP:20260422T113002Z
DTSTART;VALUE=DATE:20260422
DTEND;VALUE=DATE:20261230
SUMMARY:Marché de producteurs hebdomadaire d'Uzès
DESCRIPTION:Une soixantaine de producteurs animent la place aux Herbes avec asperges\, fraises\, fruits\, légumes\, fromages\, vins\, huiles d'olive\, poissonnerie et charcuterie.
LOCATION:Place aux herbes\, Uzès
URL:https://hello-uzes.com/agenda/marche-de-producteurs-hebdomadaire-d-uzes-2026-04-22
END:VEVENT
END:VCALENDAR
