BEGIN:VCALENDAR
VERSION:2.0
PRODID:-//Hello Uzès//Agenda//FR
CALSCALE:GREGORIAN
METHOD:PUBLISH
BEGIN:VEVENT
UID:event-1064@hello-uzes.com
DTSTAMP:20260422T113636Z
DTSTART;VALUE=DATE:20260422
DTEND;VALUE=DATE:20261226
SUMMARY:Marché hebdomadaire du samedi à Uzès
DESCRIPTION:Depuis le XIIIe siècle\, la place aux Herbes est l'épicentre des marchés d'Uzès\, considéré parmi les plus beaux marchés de France.
LOCATION:Place aux herbes\, Uzès
URL:https://hello-uzes.com/agenda/marche-hebdomadaire-du-samedi-a-uzes-2026-04-22
END:VEVENT
END:VCALENDAR
