BEGIN:VCALENDAR
VERSION:2.0
PRODID:-//Hello Uzès//Agenda//FR
CALSCALE:GREGORIAN
METHOD:PUBLISH
BEGIN:VEVENT
UID:event-1095@hello-uzes.com
DTSTAMP:20260424T104941Z
DTSTART;VALUE=DATE:20260424
DTEND;VALUE=DATE:20260425
SUMMARY:Stage d’initiation à la pierre sèche
DESCRIPTION:Le stage d'initiation à la pierre sèche propose aux participants d'apprendre les techniques traditionnelles de construction sans mortier. Cette formation pratique se déroule à Uzès jusqu'au 25 avril 2026\, débutant à 9h00. Elle s'adresse aux personnes désireuses de maîtriser ce savoir-faire ancestral encore très présent dans le patrimoine languedocien.
LOCATION:09h00
URL:https://hello-uzes.com/agenda/stage-d-initiation-a-la-pierre-seche
END:VEVENT
END:VCALENDAR
