BEGIN:VCALENDAR
VERSION:2.0
PRODID:-//Hello Uzès//Agenda//FR
CALSCALE:GREGORIAN
METHOD:PUBLISH
BEGIN:VEVENT
UID:event-1025@hello-uzes.com
DTSTAMP:20260421T142451Z
DTSTART;VALUE=DATE:20260420
DTEND;VALUE=DATE:20260424
SUMMARY:Stage de cirque
DESCRIPTION:# Stage de cirque\\n\\nCe stage de cirque se déroule à Uzès et accueille les participants jusqu'au 24 avril 2026. Les sessions débutent à 10h00 et offrent une initiation ou un perfectionnement aux disciplines circassiennes. C'est une opportunité pour découvrir les arts du cirque dans un cadre structuré et encadré.
LOCATION:10h00
URL:https://hello-uzes.com/agenda/stage-de-cirque
END:VEVENT
END:VCALENDAR
