BEGIN:VCALENDAR
VERSION:2.0
PRODID:-//Hello Uzès//Agenda//FR
CALSCALE:GREGORIAN
METHOD:PUBLISH
BEGIN:VEVENT
UID:event-1024@hello-uzes.com
DTSTAMP:20260421T144624Z
DTSTART;VALUE=DATE:20260420
DTEND;VALUE=DATE:20260424
SUMMARY:Stage de natation enfants
DESCRIPTION:Le stage de natation enfants à Uzès se déroule jusqu'au 24 avril 2026 et débute à 09h00. Cette activité permet aux enfants d'apprendre ou de perfectionner leurs compétences en natation dans un cadre structuré. Le stage propose un apprentissage progressif adapté aux différents niveaux des participants.
LOCATION:09h00
URL:https://hello-uzes.com/agenda/stage-de-natation-enfants
END:VEVENT
END:VCALENDAR
