BEGIN:VCALENDAR
VERSION:2.0
PRODID:-//Hello Uzès//Agenda//FR
CALSCALE:GREGORIAN
METHOD:PUBLISH
BEGIN:VEVENT
UID:event-1043@hello-uzes.com
DTSTAMP:20260421T143602Z
DTSTART;VALUE=DATE:20260629
DTEND;VALUE=DATE:20260630
SUMMARY:Stars 70
DESCRIPTION:La comédie musicale Stars 70 propose une immersion dans l'ambiance des années 1970. Le spectacle rend hommage à Claude François\, Joe Dassin et évoque Coluche.
LOCATION:L'Ombriere\, Uzès
URL:https://hello-uzes.com/agenda/stars-70
END:VEVENT
END:VCALENDAR
