BEGIN:VCALENDAR
VERSION:2.0
PRODID:-//Hello Uzès//Agenda//FR
CALSCALE:GREGORIAN
METHOD:PUBLISH
BEGIN:VEVENT
UID:event-1107@hello-uzes.com
DTSTAMP:20260424T104952Z
DTSTART;VALUE=DATE:20260426
DTEND;VALUE=DATE:20260427
SUMMARY:Un nouveau rassemblement de voitures anciennes aura lieu à Uzès
DESCRIPTION:Plus d'une dizaine de voitures d'époque seront garées à Uzès
LOCATION:Uzès
URL:https://hello-uzes.com/agenda/un-nouveau-rassemblement-de-voitures-anciennes-aura-lieu-a-uzes
END:VEVENT
END:VCALENDAR
