BEGIN:VCALENDAR
VERSION:2.0
PRODID:-//Hello Uzès//Agenda//FR
CALSCALE:GREGORIAN
METHOD:PUBLISH
BEGIN:VEVENT
UID:event-1066@hello-uzes.com
DTSTAMP:20260422T113232Z
DTSTART;VALUE=DATE:20260511
DTEND;VALUE=DATE:20260512
SUMMARY:Uzès exposition V - Uzès\, la métamorphose - Mémoires d'une ville
DESCRIPTION:A l'occasion du bicentenaire de la photographie\, valorisation du patrimoine photographique d'Uzès et de ses archives.
LOCATION:Salle exposition Ancien Evêché\, Uzès
URL:https://hello-uzes.com/agenda/uzes-exposition-v-uzes-la-metamorphose-memoires-d-une-ville-2026-05-11
END:VEVENT
END:VCALENDAR
