BEGIN:VCALENDAR
VERSION:2.0
PRODID:-//Hello Uzès//Agenda//FR
CALSCALE:GREGORIAN
METHOD:PUBLISH
BEGIN:VEVENT
UID:event-1052@hello-uzes.com
DTSTAMP:20260421T145124Z
DTSTART;VALUE=DATE:20260421
DTEND;VALUE=DATE:20260422
SUMMARY:Visite guidée - Les secrets de l'Abbaye
DESCRIPTION:Visite guidée et/ou commentée
LOCATION:Beaucaire
URL:https://hello-uzes.com/agenda/visite-guidee-les-secrets-de-l-abbaye
END:VEVENT
END:VCALENDAR
