BEGIN:VCALENDAR
VERSION:2.0
PRODID:-//Hello Uzès//Agenda//FR
CALSCALE:GREGORIAN
METHOD:PUBLISH
BEGIN:VEVENT
UID:event-1065@hello-uzes.com
DTSTAMP:20260422T113155Z
DTSTART;VALUE=DATE:20260510
DTEND;VALUE=DATE:20260511
SUMMARY:Visites Uzès exposition V - Uzès\, la métamorphose
DESCRIPTION:Visite guidée complète de la cinquième édition d'Uzès exposition pour connaître l'histoire de la ville et sa transformation.
LOCATION:Salle exposition Ancien Evêché\, Uzès
URL:https://hello-uzes.com/agenda/visites-uzes-exposition-v-uzes-la-metamorphose-2026-05-10
END:VEVENT
END:VCALENDAR
