BEGIN:VCALENDAR
VERSION:2.0
PRODID:-//Hello Uzès//Agenda//FR
CALSCALE:GREGORIAN
METHOD:PUBLISH
BEGIN:VEVENT
UID:event-892@hello-uzes.com
DTSTAMP:20260421T083758Z
DTSTART;VALUE=DATE:20260401
DTEND;VALUE=DATE:20260430
SUMMARY:Avril en balade en Pays d'Uzès Pont du Gard
DESCRIPTION:Nombreux rendez-vous à la découverte des capitales
LOCATION:Pays d'Uzès Pont du Gard
URL:https://hello-uzes.com/agenda/avril-en-balade-en-pays-d-uzes-pont-du-gard?locale=en
END:VEVENT
END:VCALENDAR
